BEGIN:VCALENDAR
VERSION:2.0
PRODID:-//Apex Park and Recreation District - ECPv6.15.20//NONSGML v1.0//EN
CALSCALE:GREGORIAN
METHOD:PUBLISH
X-ORIGINAL-URL:https://apexprd.org
X-WR-CALDESC:Events for Apex Park and Recreation District
REFRESH-INTERVAL;VALUE=DURATION:PT1H
X-Robots-Tag:noindex
X-PUBLISHED-TTL:PT1H
BEGIN:VTIMEZONE
TZID:America/Denver
BEGIN:DAYLIGHT
TZOFFSETFROM:-0700
TZOFFSETTO:-0600
TZNAME:MDT
DTSTART:20250309T090000
END:DAYLIGHT
BEGIN:STANDARD
TZOFFSETFROM:-0600
TZOFFSETTO:-0700
TZNAME:MST
DTSTART:20251102T080000
END:STANDARD
BEGIN:DAYLIGHT
TZOFFSETFROM:-0700
TZOFFSETTO:-0600
TZNAME:MDT
DTSTART:20260308T090000
END:DAYLIGHT
BEGIN:STANDARD
TZOFFSETFROM:-0600
TZOFFSETTO:-0700
TZNAME:MST
DTSTART:20261101T080000
END:STANDARD
BEGIN:DAYLIGHT
TZOFFSETFROM:-0700
TZOFFSETTO:-0600
TZNAME:MDT
DTSTART:20270314T090000
END:DAYLIGHT
BEGIN:STANDARD
TZOFFSETFROM:-0600
TZOFFSETTO:-0700
TZNAME:MST
DTSTART:20271107T080000
END:STANDARD
END:VTIMEZONE
BEGIN:VEVENT
DTSTART;TZID=America/Denver:20260713T173000
DTEND;TZID=America/Denver:20260713T190000
DTSTAMP:20260420T091955
CREATED:20260413T140245Z
LAST-MODIFIED:20260413T140245Z
UID:111736-1783963800-1783969200@apexprd.org
SUMMARY:Family Information Session
DESCRIPTION:Whether new to the district or ready to try new activities\, discover the many diverse opportunities across Apex Park and Recreation District. Join us at the Apex Center for a family information session designed to connect you with your community. We will walk you through our various facilities\, the vast options for programming for the entire family\, and highlight upcoming activities and events. Get your questions answered and find the perfect path to be active and engaged in the Apex PRD community.
URL:https://apexprd.org/event/family-information-session-2/
LOCATION:Apex Center\, 13150 W. 72nd Ave.\, Arvada\, CO\, 80005
END:VEVENT
END:VCALENDAR